BEGIN:VCALENDAR
VERSION:2.0
PRODID:-//Ciudad del Paraíso - ECPv6.6.3//NONSGML v1.0//EN
CALSCALE:GREGORIAN
METHOD:PUBLISH
X-WR-CALNAME:Ciudad del Paraíso
X-ORIGINAL-URL:https://ciudaddelparaiso.com
X-WR-CALDESC:Eventos para Ciudad del Paraíso
REFRESH-INTERVAL;VALUE=DURATION:PT1H
X-Robots-Tag:noindex
X-PUBLISHED-TTL:PT1H
BEGIN:VTIMEZONE
TZID:Europe/Madrid
BEGIN:DAYLIGHT
TZOFFSETFROM:+0100
TZOFFSETTO:+0200
TZNAME:CEST
DTSTART:20220327T010000
END:DAYLIGHT
BEGIN:STANDARD
TZOFFSETFROM:+0200
TZOFFSETTO:+0100
TZNAME:CET
DTSTART:20221030T010000
END:STANDARD
END:VTIMEZONE
BEGIN:VEVENT
DTSTART;TZID=Europe/Madrid:20221201T193000
DTEND;TZID=Europe/Madrid:20221201T210000
DTSTAMP:20260422T000342
CREATED:20221130T152945Z
LAST-MODIFIED:20221130T153559Z
UID:1513-1669923000-1669928400@ciudaddelparaiso.com
SUMMARY:LETRAS CAPITALES - Charla sobre Mercedes Formica y su obra entre Alfredo Tajan y Mariano Vergara
DESCRIPTION:
URL:https://ciudaddelparaiso.com/evento/letras-capitales/
LOCATION:Centro Andaluz de las Letras\, C/ Alamos 24\, Málaga\, Málaga\, 29012
CATEGORIES:Presentación
ATTACH;FMTTYPE=image/jpeg:https://ciudaddelparaiso.com/wp-content/uploads/2022/11/prueba-000.jpg
END:VEVENT
BEGIN:VEVENT
DTSTART;TZID=Europe/Madrid:20221210T110000
DTEND;TZID=Europe/Madrid:20221210T130000
DTSTAMP:20260422T000342
CREATED:20221202T115323Z
LAST-MODIFIED:20221202T120456Z
UID:1525-1670670000-1670677200@ciudaddelparaiso.com
SUMMARY:ACTO HOMENAJE A ROBERT BOYD - Sábado 10 de diciembre a las 11:00 horas
DESCRIPTION:
URL:https://ciudaddelparaiso.com/evento/acto-homenaje-a-robert-boyd-sabado-10-de-diciembre-a-las-1100-horas/
LOCATION:Cementerio Inglés\, Avenida Príes 1\, Málaga\, Málaga\, 29016\, España
CATEGORIES:Homenaje
ATTACH;FMTTYPE=image/png:https://ciudaddelparaiso.com/wp-content/uploads/2022/12/Homenaje-a-Boyd-00.png
END:VEVENT
END:VCALENDAR